BEGIN:VCALENDAR
VERSION:2.0
PRODID:https://github.com/derhansen/sf_event_mgt
METHOD:PUBLISH
BEGIN:VEVENT
UID:423-138@euerbach.de
CLASS: PUBLIC
SUMMARY:Schlachtschüssel des SV Sömmersdorf (Sömmersdorf)
DESCRIPTION:
LOCATION:Waldschenke Sömmersdorf
DTSTAMP:20251125T122442Z
DTSTART:20260228T170000Z
DTEND:20260228T210000Z
END:VEVENT
END:VCALENDAR
