BEGIN:VCALENDAR
VERSION:2.0
PRODID:https://github.com/derhansen/sf_event_mgt
METHOD:PUBLISH
BEGIN:VEVENT
UID:358-138@euerbach.de
CLASS: PUBLIC
SUMMARY:Saisoneröffnung des Freundes- und Förderkreis der DPSG Euerbach (Eu
 erbach)
DESCRIPTION:
LOCATION:Pfadfinderzeltplatz Euerbach
DTSTAMP:20251125T122442Z
DTSTART:20260321T080000Z
DTEND:20260321T110000Z
END:VEVENT
END:VCALENDAR
