BEGIN:VCALENDAR
VERSION:2.0
PRODID:https://github.com/derhansen/sf_event_mgt
METHOD:PUBLISH
BEGIN:VEVENT
UID:186-138@euerbach.de
CLASS: PUBLIC
SUMMARY:Saisoneröffnung, Freundes- und Förderkreis der DPSG Euerbach (Euerb
 ach)
DESCRIPTION:
LOCATION:Pfadfinderzeltplatz Euerbach
DTSTAMP:20250108T140559Z
DTSTART:20250329T080000Z
DTEND:20250329T190000Z
END:VEVENT
END:VCALENDAR
