BEGIN:VCALENDAR
VERSION:2.0
PRODID:https://github.com/derhansen/sf_event_mgt
METHOD:PUBLISH
BEGIN:VEVENT
UID:11-138@euerbach.de
CLASS: PUBLIC
SUMMARY:Saisonabschluss (Euerbach)
DESCRIPTION:
LOCATION:Pfadfinderzeltplatz Euerbach
DTSTAMP:20240425T125605Z
DTSTART:20241109T080000Z
END:VEVENT
END:VCALENDAR
