BEGIN:VCALENDAR
VERSION:2.0
PRODID:https://github.com/derhansen/sf_event_mgt
METHOD:PUBLISH
BEGIN:VEVENT
UID:190-138@euerbach.de
CLASS: PUBLIC
SUMMARY:Saisonabschluss des Freundes- und Förderkreis der DPSG Euerbach (Eu
 erbach)
DESCRIPTION:
LOCATION:Pfadfinderzeltplatz Euerbach
DTSTAMP:20250108T140559Z
DTSTART:20251115T080000Z
DTEND:20251115T140000Z
END:VEVENT
END:VCALENDAR
