BEGIN:VCALENDAR
VERSION:2.0
PRODID:https://github.com/derhansen/sf_event_mgt
METHOD:PUBLISH
BEGIN:VEVENT
UID:458-138@euerbach.de
CLASS: PUBLIC
SUMMARY:Rosengottesdienst der evang. Kirchengemeinde Euerbach (Euerbach)
DESCRIPTION:
LOCATION:Evang. Kirche Euerbach
DTSTAMP:20251125T122442Z
DTSTART:20260614T080000Z
DTEND:20260614T090000Z
END:VEVENT
END:VCALENDAR
