BEGIN:VCALENDAR
VERSION:2.0
PRODID:https://github.com/derhansen/sf_event_mgt
METHOD:PUBLISH
BEGIN:VEVENT
UID:431-138@euerbach.de
CLASS: PUBLIC
SUMMARY:Politischer Abend mit Heringsessen der Wählergemeinschaft Sömmersdo
 rf (Sömmersdorf)
DESCRIPTION:
LOCATION:Waldschenke Sömmersdorf
DTSTAMP:20260220T090656Z
DTSTART:20260220T180000Z
DTEND:20260220T210000Z
END:VEVENT
END:VCALENDAR
