BEGIN:VCALENDAR
VERSION:2.0
PRODID:https://github.com/derhansen/sf_event_mgt
METHOD:PUBLISH
BEGIN:VEVENT
UID:256-138@euerbach.de
CLASS: PUBLIC
SUMMARY:Politischer Abend mit Heringsessen der Freien Wählergemeinschaft Sö
 mmersdorf (Sömmersdorf)
DESCRIPTION:
LOCATION:Feuerwehrhaus Sömmersdorf
DTSTAMP:20250108T140559Z
DTSTART:20250307T180000Z
END:VEVENT
END:VCALENDAR
