BEGIN:VCALENDAR
VERSION:2.0
PRODID:https://github.com/derhansen/sf_event_mgt
METHOD:PUBLISH
BEGIN:VEVENT
UID:481-138@euerbach.de
CLASS: PUBLIC
SUMMARY:Politischer Abend mit Heringsessen der Freien Wählergemeinschaft Eu
 erbach (Euerbach)
DESCRIPTION:
LOCATION:Kath. Pfarrheim Euerbach
DTSTAMP:20251125T122442Z
DTSTART:20260217T230000Z
END:VEVENT
END:VCALENDAR
