BEGIN:VCALENDAR
VERSION:2.0
PRODID:https://github.com/derhansen/sf_event_mgt
METHOD:PUBLISH
BEGIN:VEVENT
UID:312-138@euerbach.de
CLASS: PUBLIC
SUMMARY:Politischer Abend mit Heringsessen der Freien Wählergemeinschaft Eu
 erbach (Euerbach)
DESCRIPTION:
LOCATION:Kath. Pfarrheim Euerbach
DTSTAMP:20250108T140559Z
DTSTART:20250305T180000Z
DTEND:20250305T200000Z
END:VEVENT
END:VCALENDAR
