BEGIN:VCALENDAR
VERSION:2.0
PRODID:https://github.com/derhansen/sf_event_mgt
METHOD:PUBLISH
BEGIN:VEVENT
UID:194-138@euerbach.de
CLASS: PUBLIC
SUMMARY:Pfingstlager/Pfingstausflug des Freundes- und Förderkreis der DPSG 
 Euerbach (Euerbach)
DESCRIPTION:
DTSTAMP:20250108T140559Z
DTSTART:20250605T220000Z
DTEND:20250608T220000Z
END:VEVENT
END:VCALENDAR
