BEGIN:VCALENDAR
VERSION:2.0
PRODID:https://github.com/derhansen/sf_event_mgt
METHOD:PUBLISH
BEGIN:VEVENT
UID:165-138@euerbach.de
CLASS: PUBLIC
SUMMARY:Passion 2024 (Sömmersdorf)
DESCRIPTION:
LOCATION:Freilichtbühne Sömmersdorf
DTSTAMP:20240425T125605Z
DTSTART:20240803T173000Z
END:VEVENT
END:VCALENDAR
