BEGIN:VCALENDAR
VERSION:2.0
PRODID:https://github.com/derhansen/sf_event_mgt
METHOD:PUBLISH
BEGIN:VEVENT
UID:337-138@euerbach.de
CLASS: PUBLIC
SUMMARY:Osterbrunnenfahrt des VdK-Ortsverband Euerbach-Kützberg (Alle)
DESCRIPTION:
DTSTAMP:20250108T140559Z
DTSTART:20250409T220000Z
DTEND:20250409T220000Z
END:VEVENT
END:VCALENDAR
