BEGIN:VCALENDAR
VERSION:2.0
PRODID:https://github.com/derhansen/sf_event_mgt
METHOD:PUBLISH
BEGIN:VEVENT
UID:333-138@euerbach.de
CLASS: PUBLIC
SUMMARY:Ökumenischer Weltgebetstag (Euerbach)
DESCRIPTION:
DTSTAMP:20250108T140559Z
DTSTART:20250314T180000Z
DTEND:20250314T200000Z
END:VEVENT
END:VCALENDAR
