BEGIN:VCALENDAR
VERSION:2.0
PRODID:https://github.com/derhansen/sf_event_mgt
METHOD:PUBLISH
BEGIN:VEVENT
UID:178-138@euerbach.de
CLASS: PUBLIC
SUMMARY:Ökum. Seniorenadvent (Obbach )
DESCRIPTION:
LOCATION:Evang. Gemeindehaus Obbach
DTSTAMP:20240425T125605Z
DTSTART:20241208T130000Z
END:VEVENT
END:VCALENDAR
