BEGIN:VCALENDAR
VERSION:2.0
PRODID:https://github.com/derhansen/sf_event_mgt
METHOD:PUBLISH
BEGIN:VEVENT
UID:472-138@euerbach.de
CLASS: PUBLIC
SUMMARY:Ökum. Seniorenadvent der evang. Kirchengemeinde Obbach, kath. Pfarr
 gemeinde Obbach und Eigenheimervereinigung Obbach e.V. (Obbach)
DESCRIPTION:
LOCATION:Obbacher Rathaus
DTSTAMP:20251125T122442Z
DTSTART:20261208T130000Z
DTEND:20261208T170000Z
END:VEVENT
END:VCALENDAR
