BEGIN:VCALENDAR
VERSION:2.0
PRODID:https://github.com/derhansen/sf_event_mgt
METHOD:PUBLISH
BEGIN:VEVENT
UID:490-138@euerbach.de
CLASS: PUBLIC
SUMMARY:Ökum. Pfarrfest in Poppenhausen der evang. Kirchengemeinde und kath
 . Pfarrgemeinde (Poppenhausen)
DESCRIPTION:
LOCATION:Kath. Kirche Poppenhausen
DTSTAMP:20251125T122442Z
DTSTART:20260705T080000Z
DTEND:20260705T160000Z
END:VEVENT
END:VCALENDAR
