BEGIN:VCALENDAR
VERSION:2.0
PRODID:https://github.com/derhansen/sf_event_mgt
METHOD:PUBLISH
BEGIN:VEVENT
UID:360-138@euerbach.de
CLASS: PUBLIC
SUMMARY:Ökum. Open-Air-Gottesdienst mit Johannisfeuer des Freundes- und För
 derkreis der DPSG Euerbach (Euerbach)
DESCRIPTION:
LOCATION:Pfadfinderzeltplatz Euerbach
DTSTAMP:20251125T122442Z
DTSTART:20260620T153000Z
DTEND:20260620T203000Z
END:VEVENT
END:VCALENDAR
