BEGIN:VCALENDAR
VERSION:2.0
PRODID:https://github.com/derhansen/sf_event_mgt
METHOD:PUBLISH
BEGIN:VEVENT
UID:325-138@euerbach.de
CLASS: PUBLIC
SUMMARY:Ökum. Kirchgadenadvent mit Adventfeier für Senioren  (Euerbach)
DESCRIPTION:
LOCATION:Evang. Gemeindehaus Euerbach
DTSTAMP:20250108T140559Z
DTSTART:20251207T130000Z
DTEND:20251207T150000Z
END:VEVENT
END:VCALENDAR
