BEGIN:VCALENDAR
VERSION:2.0
PRODID:https://github.com/derhansen/sf_event_mgt
METHOD:PUBLISH
BEGIN:VEVENT
UID:103-138@euerbach.de
CLASS: PUBLIC
SUMMARY:Ökum. Kirchgadenadvent mit Adventfeier für Senioren  (Euerbach)
DESCRIPTION:
LOCATION:Evang. Gemeindehaus Euerbach
DTSTAMP:20240425T125605Z
DTSTART:20241208T130000Z
END:VEVENT
END:VCALENDAR
