BEGIN:VCALENDAR
VERSION:2.0
PRODID:https://github.com/derhansen/sf_event_mgt
METHOD:PUBLISH
BEGIN:VEVENT
UID:304-138@euerbach.de
CLASS: PUBLIC
SUMMARY:Ökum. Gottesdienst zum Weltgebetstag der Frauen (Obbach)
DESCRIPTION:
LOCATION:Evang. Gemeindehaus Obbach
DTSTAMP:20250108T140559Z
DTSTART:20250307T180000Z
DTEND:20250307T190000Z
END:VEVENT
END:VCALENDAR
