BEGIN:VCALENDAR
VERSION:2.0
PRODID:https://github.com/derhansen/sf_event_mgt
METHOD:PUBLISH
BEGIN:VEVENT
UID:480-138@euerbach.de
CLASS: PUBLIC
SUMMARY:Ökum. Gottesdienst zum Weltgebetstag der Frauen der Evang. Kircheng
 emeinde und kath. Pfarrgemeinde (Obbach)
DESCRIPTION:
LOCATION:Evang. Gemeindehaus Obbach
DTSTAMP:20251125T122442Z
DTSTART:20260228T230000Z
END:VEVENT
END:VCALENDAR
