BEGIN:VCALENDAR
VERSION:2.0
PRODID:https://github.com/derhansen/sf_event_mgt
METHOD:PUBLISH
BEGIN:VEVENT
UID:479-138@euerbach.de
CLASS: PUBLIC
SUMMARY:Ökum. Gottesdienst zum Weltgebetstag der evang. Kirchengemeinde und
  kath. Pfarrgemeinde Euerbach (Euerbach)
DESCRIPTION:
LOCATION:Evang. Kirche Euerbach
DTSTAMP:20251125T122442Z
DTSTART:20260306T180000Z
DTEND:20260306T190000Z
END:VEVENT
END:VCALENDAR
