BEGIN:VCALENDAR
VERSION:2.0
PRODID:https://github.com/derhansen/sf_event_mgt
METHOD:PUBLISH
BEGIN:VEVENT
UID:484-138@euerbach.de
CLASS: PUBLIC
SUMMARY:Ökum. Gottesdienst am Pfadfinderzeltplatz Euerbach (Euerbach)
DESCRIPTION:
LOCATION:Pfadfinderzeltplatz Euerbach
DTSTAMP:20251125T122442Z
DTSTART:20260626T220000Z
END:VEVENT
END:VCALENDAR
