BEGIN:VCALENDAR
VERSION:2.0
PRODID:https://github.com/derhansen/sf_event_mgt
METHOD:PUBLISH
BEGIN:VEVENT
UID:489-138@euerbach.de
CLASS: PUBLIC
SUMMARY:Ökum. Freiluftgottesdienst an den Kastanien auf der Schäferswiese (
 Euerbach)
DESCRIPTION:
LOCATION:Kastanien bei der Schäferswiese
DTSTAMP:20251125T122442Z
DTSTART:20260725T220000Z
END:VEVENT
END:VCALENDAR
