BEGIN:VCALENDAR
VERSION:2.0
PRODID:https://github.com/derhansen/sf_event_mgt
METHOD:PUBLISH
BEGIN:VEVENT
UID:317-138@euerbach.de
CLASS: PUBLIC
SUMMARY:Ökum. Freiluftgottesdienst an den Kastanien auf der Schäferswiese (
 Euerbach)
DESCRIPTION:
LOCATION:Kastanien bei der Schäferswiese
DTSTAMP:20250108T140559Z
DTSTART:20250629T160000Z
DTEND:20250629T170000Z
END:VEVENT
END:VCALENDAR
