BEGIN:VCALENDAR
VERSION:2.0
PRODID:https://github.com/derhansen/sf_event_mgt
METHOD:PUBLISH
BEGIN:VEVENT
UID:102-138@euerbach.de
CLASS: PUBLIC
SUMMARY:Ökum. Andacht zur Kirchweih und zum Erntedankfest (Euerbach)
DESCRIPTION:
LOCATION:Schäferswiese Euerbach
DTSTAMP:20240425T125605Z
DTSTART:20241006T113000Z
END:VEVENT
END:VCALENDAR
