BEGIN:VCALENDAR
VERSION:2.0
PRODID:https://github.com/derhansen/sf_event_mgt
METHOD:PUBLISH
BEGIN:VEVENT
UID:89-138@euerbach.de
CLASS: PUBLIC
SUMMARY:Ökologischer Innenausbau mit Lehm und Kalk (Obbach)
DESCRIPTION:
LOCATION:Altes Rathaus Obbach
DTSTAMP:20241018T064144Z
DTSTART:20241024T170000Z
END:VEVENT
END:VCALENDAR
