BEGIN:VCALENDAR
VERSION:2.0
PRODID:https://github.com/derhansen/sf_event_mgt
METHOD:PUBLISH
BEGIN:VEVENT
UID:432-138@euerbach.de
CLASS: PUBLIC
SUMMARY:Neujahrsempfang der Wählergemeinschaft Sömmersdorf (Sömmersdorf)
DESCRIPTION:
LOCATION:Passionsgarten Sömmersdorf
DTSTAMP:20251125T122442Z
DTSTART:20260110T150000Z
DTEND:20260110T180000Z
END:VEVENT
END:VCALENDAR
