BEGIN:VCALENDAR
VERSION:2.0
PRODID:https://github.com/derhansen/sf_event_mgt
METHOD:PUBLISH
BEGIN:VEVENT
UID:289-138@euerbach.de
CLASS: PUBLIC
SUMMARY:Musikalisches Adventsfenster (Euerbach)
DESCRIPTION:
LOCATION:Kirchgaden Euerbach
DTSTAMP:20250108T140559Z
DTSTART:20251207T160000Z
DTEND:20251207T170000Z
END:VEVENT
END:VCALENDAR
