BEGIN:VCALENDAR
VERSION:2.0
PRODID:https://github.com/derhansen/sf_event_mgt
METHOD:PUBLISH
BEGIN:VEVENT
UID:147-138@euerbach.de
CLASS: PUBLIC
SUMMARY:Musikalisches Adventfenster (Euerbach)
DESCRIPTION:
LOCATION:Kirchgaden Euerbach
DTSTAMP:20240425T125605Z
DTSTART:20241208T160000Z
END:VEVENT
END:VCALENDAR
