BEGIN:VCALENDAR
VERSION:2.0
PRODID:https://github.com/derhansen/sf_event_mgt
METHOD:PUBLISH
BEGIN:VEVENT
UID:13-138@euerbach.de
CLASS: PUBLIC
SUMMARY:Mitgliederversammlung (Euerbach)
DESCRIPTION:
LOCATION:Pfadfinderhaus Euerbach
DTSTAMP:20240425T125605Z
DTSTART:20241110T160000Z
END:VEVENT
END:VCALENDAR
