BEGIN:VCALENDAR
VERSION:2.0
PRODID:https://github.com/derhansen/sf_event_mgt
METHOD:PUBLISH
BEGIN:VEVENT
UID:362-138@euerbach.de
CLASS: PUBLIC
SUMMARY:Mitgliederversammlung des Freundes- und Förderkreis der DPSG Euerba
 ch (Euerbach)
DESCRIPTION:
LOCATION:Pfadfinderhaus Euerbach
DTSTAMP:20251125T122442Z
DTSTART:20260322T160000Z
DTEND:20260322T180000Z
END:VEVENT
END:VCALENDAR
