BEGIN:VCALENDAR
VERSION:2.0
PRODID:https://github.com/derhansen/sf_event_mgt
METHOD:PUBLISH
BEGIN:VEVENT
UID:191-138@euerbach.de
CLASS: PUBLIC
SUMMARY:Mitgliederversammlung des Freundes- und Förderkreis der DPSG Euerba
 ch (Euerbach)
DESCRIPTION:
LOCATION:Pfadfinderhaus Euerbach
DTSTAMP:20250108T140559Z
DTSTART:20250330T150000Z
DTEND:20250330T190000Z
END:VEVENT
END:VCALENDAR
