BEGIN:VCALENDAR
VERSION:2.0
PRODID:https://github.com/derhansen/sf_event_mgt
METHOD:PUBLISH
BEGIN:VEVENT
UID:438-138@euerbach.de
CLASS: PUBLIC
SUMMARY:Mitgliederversammlung des Christophorus-Verein Euerbach (Euerbach)
DESCRIPTION:
LOCATION:Kath. Pfarrheim Euerbach
DTSTAMP:20251125T122442Z
DTSTART:20260312T190000Z
DTEND:20260312T210000Z
END:VEVENT
END:VCALENDAR
