BEGIN:VCALENDAR
VERSION:2.0
PRODID:https://github.com/derhansen/sf_event_mgt
METHOD:PUBLISH
BEGIN:VEVENT
UID:262-138@euerbach.de
CLASS: PUBLIC
SUMMARY:Mitgliederversammlung des Christophorus-Verein Euerbach (Euerbach)
DESCRIPTION:
LOCATION:Kath. Pfarrheim Euerbach
DTSTAMP:20250108T140559Z
DTSTART:20250327T190000Z
DTEND:20250327T210000Z
END:VEVENT
END:VCALENDAR
