BEGIN:VCALENDAR
VERSION:2.0
PRODID:https://github.com/derhansen/sf_event_mgt
METHOD:PUBLISH
BEGIN:VEVENT
UID:359-138@euerbach.de
CLASS: PUBLIC
SUMMARY:Mitgliedertreff des Freundes- und Förderkreis der DPSG Euerbach (Eu
 erbach)
DESCRIPTION:
LOCATION:Pfadfinderzeltplatz Euerbach
DTSTAMP:20251125T122442Z
DTSTART:20260619T150000Z
DTEND:20260619T170000Z
END:VEVENT
END:VCALENDAR
