BEGIN:VCALENDAR
VERSION:2.0
PRODID:https://github.com/derhansen/sf_event_mgt
METHOD:PUBLISH
BEGIN:VEVENT
UID:188-138@euerbach.de
CLASS: PUBLIC
SUMMARY:Mitgliedertreff des Freundes- und Förderkreis der DPSG Euerbach (Eu
 erbach)
DESCRIPTION:
LOCATION:Pfadfinderzeltplatz Euerbach
DTSTAMP:20250108T140559Z
DTSTART:20250620T150000Z
DTEND:20250620T190000Z
END:VEVENT
END:VCALENDAR
