BEGIN:VCALENDAR
VERSION:2.0
PRODID:https://github.com/derhansen/sf_event_mgt
METHOD:PUBLISH
BEGIN:VEVENT
UID:109-138@euerbach.de
CLASS: PUBLIC
SUMMARY:Martinsfest (Euerbach)
DESCRIPTION:
LOCATION:Kath. Kirche Euerbach
DTSTAMP:20240425T125605Z
DTSTART:20241111T160000Z
END:VEVENT
END:VCALENDAR
