BEGIN:VCALENDAR
VERSION:2.0
PRODID:https://github.com/derhansen/sf_event_mgt
METHOD:PUBLISH
BEGIN:VEVENT
UID:368-138@euerbach.de
CLASS: PUBLIC
SUMMARY:Maibaumaufstellung der Feuerwehr Sömmersdorf (Sömmersdorf)
DESCRIPTION:
LOCATION:Feuerwehrhaus Sömmersdorf
DTSTAMP:20251125T122442Z
DTSTART:20260430T160000Z
DTEND:20260430T230000Z
END:VEVENT
END:VCALENDAR
