BEGIN:VCALENDAR
VERSION:2.0
PRODID:https://github.com/derhansen/sf_event_mgt
METHOD:PUBLISH
BEGIN:VEVENT
UID:398-138@euerbach.de
CLASS: PUBLIC
SUMMARY:Maibaumaufstellung der Feuerwehr Euerbach (Euerbach)
DESCRIPTION:
LOCATION:Altes Feuerwehrhaus Euerbach
DTSTAMP:20251125T122442Z
DTSTART:20260430T150000Z
DTEND:20260429T230000Z
END:VEVENT
END:VCALENDAR
