BEGIN:VCALENDAR
VERSION:2.0
PRODID:https://github.com/derhansen/sf_event_mgt
METHOD:PUBLISH
BEGIN:VEVENT
UID:227-138@euerbach.de
CLASS: PUBLIC
SUMMARY:Maibaumaufstellung der Feuerwehr Euerbach  (Euerbach)
DESCRIPTION:
LOCATION:Altes Feuerwehrhaus Euerbach
DTSTAMP:20250108T140559Z
DTSTART:20250430T150000Z
END:VEVENT
END:VCALENDAR
