BEGIN:VCALENDAR
VERSION:2.0
PRODID:https://github.com/derhansen/sf_event_mgt
METHOD:PUBLISH
BEGIN:VEVENT
UID:365-138@euerbach.de
CLASS: PUBLIC
SUMMARY:Kreuzbergwallfahrt des Freundes- und Förderkreise der DPSG Euerbach
  (Euerbach)
DESCRIPTION:
DTSTAMP:20251125T122442Z
DTSTART:20260506T220000Z
DTEND:20260509T220000Z
END:VEVENT
END:VCALENDAR
