BEGIN:VCALENDAR
VERSION:2.0
PRODID:https://github.com/derhansen/sf_event_mgt
METHOD:PUBLISH
BEGIN:VEVENT
UID:193-138@euerbach.de
CLASS: PUBLIC
SUMMARY:Kreuzbergwallfahrt des Freundes- und Förderkreis der DPSG Euerbach 
 (Euerbach)
DESCRIPTION:
DTSTAMP:20250108T140559Z
DTSTART:20250430T220000Z
DTEND:20250503T220000Z
END:VEVENT
END:VCALENDAR
