BEGIN:VCALENDAR
VERSION:2.0
PRODID:https://github.com/derhansen/sf_event_mgt
METHOD:PUBLISH
BEGIN:VEVENT
UID:81-138@euerbach.de
CLASS: PUBLIC
SUMMARY:Kirchweihessen (Sömmersdorf)
DESCRIPTION:
LOCATION:Robert-Seemann-Halle
DTSTAMP:20240425T125605Z
DTSTART:20241028T160000Z
END:VEVENT
END:VCALENDAR
