BEGIN:VCALENDAR
VERSION:2.0
PRODID:https://github.com/derhansen/sf_event_mgt
METHOD:PUBLISH
BEGIN:VEVENT
UID:144-138@euerbach.de
CLASS: PUBLIC
SUMMARY:Kirchweih- und Erntedankgottesdienst  (Euerbach)
DESCRIPTION:
LOCATION:Evang. Kirche Euerbach
DTSTAMP:20240425T125605Z
DTSTART:20241006T090000Z
END:VEVENT
END:VCALENDAR
