BEGIN:VCALENDAR
VERSION:2.0
PRODID:https://github.com/derhansen/sf_event_mgt
METHOD:PUBLISH
BEGIN:VEVENT
UID:114-138@euerbach.de
CLASS: PUBLIC
SUMMARY:Kirchweih (Obbach)
DESCRIPTION:
LOCATION:TSV Sportgelände Obbach
DTSTAMP:20240425T125605Z
DTSTART:20240909T150000Z
END:VEVENT
END:VCALENDAR
