BEGIN:VCALENDAR
VERSION:2.0
PRODID:https://github.com/derhansen/sf_event_mgt
METHOD:PUBLISH
BEGIN:VEVENT
UID:113-138@euerbach.de
CLASS: PUBLIC
SUMMARY:Kirchweih mit ökumenischen Gottesdienst (Obbach)
DESCRIPTION:
LOCATION:TSV Sportgelände Obbach
DTSTAMP:20240425T125605Z
DTSTART:20240908T083000Z
END:VEVENT
END:VCALENDAR
