BEGIN:VCALENDAR
VERSION:2.0
PRODID:https://github.com/derhansen/sf_event_mgt
METHOD:PUBLISH
BEGIN:VEVENT
UID:80-138@euerbach.de
CLASS: PUBLIC
SUMMARY:Kirchweih in Sömmersdorf  Kirchweihtanz (Sömmersdorf)
DESCRIPTION:
LOCATION:Robert-Seemann-Halle
DTSTAMP:20240425T125605Z
DTSTART:20241026T180000Z
END:VEVENT
END:VCALENDAR
