BEGIN:VCALENDAR
VERSION:2.0
PRODID:https://github.com/derhansen/sf_event_mgt
METHOD:PUBLISH
BEGIN:VEVENT
UID:99-138@euerbach.de
CLASS: PUBLIC
SUMMARY:Kirchweih in Sömmersdorf Kirchweihkaffee (Sömmersdorf)
DESCRIPTION:
LOCATION:Waldschenke Sömmersdorf
DTSTAMP:20240425T125605Z
DTSTART:20241027T130000Z
END:VEVENT
END:VCALENDAR
